Package: annotationTools Version: 1.82.0 Command: /Library/Frameworks/R.framework/Resources/bin/R CMD build --keep-empty-dirs --no-resave-data annotationTools StartedAt: 2025-10-13 19:03:02 -0400 (Mon, 13 Oct 2025) EndedAt: 2025-10-13 19:03:18 -0400 (Mon, 13 Oct 2025) EllapsedTime: 16.0 seconds RetCode: 0 Status: OK PackageFile: annotationTools_1.82.0.tar.gz PackageFileSize: 333.6 KiB