Package: annotate Version: 1.86.1 Command: /home/biocbuild/bbs-3.21-bioc/R/bin/R CMD check --install=check:annotate.install-out.txt --library=/home/biocbuild/bbs-3.21-bioc/R/site-library --timings annotate_1.86.1.tar.gz StartedAt: 2025-10-15 20:46:40 -0400 (Wed, 15 Oct 2025) EndedAt: 2025-10-15 20:50:45 -0400 (Wed, 15 Oct 2025) EllapsedTime: 244.5 seconds RetCode: 0 Status: OK CheckDir: annotate.Rcheck Warnings: 0