Package: annotate Version: 1.86.1 Command: /home/biocbuild/bbs-3.21-bioc/R/bin/R CMD build --keep-empty-dirs --no-resave-data annotate StartedAt: 2025-10-15 16:10:20 -0400 (Wed, 15 Oct 2025) EndedAt: 2025-10-15 16:11:22 -0400 (Wed, 15 Oct 2025) EllapsedTime: 62.1 seconds RetCode: 0 Status: OK PackageFile: annotate_1.86.1.tar.gz PackageFileSize: 1.786 MiB