Package: annotate Version: 1.86.1 Command: /Library/Frameworks/R.framework/Resources/bin/R CMD check --install=check:annotate.install-out.txt --library=/Library/Frameworks/R.framework/Resources/library --no-vignettes --timings annotate_1.86.1.tar.gz StartedAt: 2025-10-14 00:00:18 -0400 (Tue, 14 Oct 2025) EndedAt: 2025-10-14 00:06:48 -0400 (Tue, 14 Oct 2025) EllapsedTime: 389.5 seconds RetCode: 0 Status: OK CheckDir: annotate.Rcheck Warnings: 0