Package: annotate Version: 1.86.1 Command: /home/biocbuild/R/R/bin/R CMD INSTALL annotate StartedAt: 2025-10-13 20:41:52 -0000 (Mon, 13 Oct 2025) EndedAt: 2025-10-13 20:42:15 -0000 (Mon, 13 Oct 2025) EllapsedTime: 23.1 seconds RetCode: 0 Status: OK