Package: annotate Version: 1.86.1 Command: /Library/Frameworks/R.framework/Resources/bin/R CMD INSTALL annotate StartedAt: 2025-10-13 15:49:46 -0400 (Mon, 13 Oct 2025) EndedAt: 2025-10-13 15:50:05 -0400 (Mon, 13 Oct 2025) EllapsedTime: 18.7 seconds RetCode: 0 Status: OK