Package: annotate Version: 1.86.1 Command: /Library/Frameworks/R.framework/Resources/bin/R CMD build --keep-empty-dirs --no-resave-data annotate StartedAt: 2025-10-13 19:01:26 -0400 (Mon, 13 Oct 2025) EndedAt: 2025-10-13 19:03:02 -0400 (Mon, 13 Oct 2025) EllapsedTime: 95.8 seconds RetCode: 0 Status: OK PackageFile: annotate_1.86.1.tar.gz PackageFileSize: 1.785 MiB