Package: alabaster.string Version: 1.8.0 Command: /home/biocbuild/bbs-3.21-bioc/R/bin/R CMD build --keep-empty-dirs --no-resave-data alabaster.string StartedAt: 2025-10-15 16:09:12 -0400 (Wed, 15 Oct 2025) EndedAt: 2025-10-15 16:09:29 -0400 (Wed, 15 Oct 2025) EllapsedTime: 17.0 seconds RetCode: 0 Status: OK PackageFile: alabaster.string_1.8.0.tar.gz PackageFileSize: 220.3 KiB