Package: alabaster.string Version: 1.8.0 Command: /home/biocbuild/R/R/bin/R CMD INSTALL alabaster.string StartedAt: 2025-10-13 21:12:53 -0000 (Mon, 13 Oct 2025) EndedAt: 2025-10-13 21:13:10 -0000 (Mon, 13 Oct 2025) EllapsedTime: 16.8 seconds RetCode: 0 Status: OK