Package: alabaster.string Version: 1.8.0 Command: /home/biocbuild/R/R/bin/R CMD build --keep-empty-dirs --no-resave-data alabaster.string StartedAt: 2025-10-13 22:31:52 -0000 (Mon, 13 Oct 2025) EndedAt: 2025-10-13 22:32:15 -0000 (Mon, 13 Oct 2025) EllapsedTime: 23.0 seconds RetCode: 0 Status: OK PackageFile: alabaster.string_1.8.0.tar.gz PackageFileSize: 244.3 KiB