Package: alabaster.string Version: 1.8.0 Command: /Library/Frameworks/R.framework/Resources/bin/R CMD INSTALL alabaster.string StartedAt: 2025-10-13 18:26:55 -0400 (Mon, 13 Oct 2025) EndedAt: 2025-10-13 18:27:09 -0400 (Mon, 13 Oct 2025) EllapsedTime: 13.9 seconds RetCode: 0 Status: OK