Package: alabaster.spatial Version: 1.8.0 Command: /home/biocbuild/bbs-3.21-bioc/R/bin/R CMD INSTALL alabaster.spatial StartedAt: 2025-10-15 15:36:29 -0400 (Wed, 15 Oct 2025) EndedAt: 2025-10-15 15:36:58 -0400 (Wed, 15 Oct 2025) EllapsedTime: 29.1 seconds RetCode: 0 Status: OK