Package: alabaster.spatial Version: 1.8.0 Command: /home/biocbuild/R/R/bin/R CMD INSTALL alabaster.spatial StartedAt: 2025-10-13 20:57:03 -0000 (Mon, 13 Oct 2025) EndedAt: 2025-10-13 20:57:46 -0000 (Mon, 13 Oct 2025) EllapsedTime: 42.6 seconds RetCode: 0 Status: OK