Package: alabaster.spatial Version: 1.8.0 Command: /home/biocbuild/R/R/bin/R CMD build --keep-empty-dirs --no-resave-data alabaster.spatial StartedAt: 2025-10-13 22:31:49 -0000 (Mon, 13 Oct 2025) EndedAt: 2025-10-13 22:32:51 -0000 (Mon, 13 Oct 2025) EllapsedTime: 62.0 seconds RetCode: 0 Status: OK PackageFile: alabaster.spatial_1.8.0.tar.gz PackageFileSize: 653.8 KiB