Package: alabaster.spatial Version: 1.8.0 Command: /Library/Frameworks/R.framework/Resources/bin/R CMD INSTALL alabaster.spatial StartedAt: 2025-10-13 16:30:07 -0400 (Mon, 13 Oct 2025) EndedAt: 2025-10-13 16:30:42 -0400 (Mon, 13 Oct 2025) EllapsedTime: 35.2 seconds RetCode: 0 Status: OK