Package: alabaster.spatial Version: 1.8.0 Command: rm -rf alabaster.spatial.buildbin-libdir && mkdir alabaster.spatial.buildbin-libdir && /Users/biocbuild/BBS/utils/build-universal.sh alabaster.spatial_1.8.0.tar.gz /Library/Frameworks/R.framework/Resources/bin/R alabaster.spatial.buildbin-libdir StartedAt: 2025-10-15 17:22:17 -0400 (Wed, 15 Oct 2025) EndedAt: 2025-10-15 17:22:58 -0400 (Wed, 15 Oct 2025) EllapsedTime: 40.7 seconds RetCode: 0 Status: OK PackageFile: alabaster.spatial_1.8.0.tgz PackageFileSize: 906.7 KiB