Package: alabaster.schemas Version: 1.8.0 Command: /home/biocbuild/R/R/bin/R CMD INSTALL alabaster.schemas StartedAt: 2025-10-13 20:13:29 -0000 (Mon, 13 Oct 2025) EndedAt: 2025-10-13 20:13:47 -0000 (Mon, 13 Oct 2025) EllapsedTime: 17.9 seconds RetCode: 0 Status: OK