Package: alabaster.ranges Version: 1.8.0 Command: /home/biocbuild/R/R/bin/R CMD build --keep-empty-dirs --no-resave-data alabaster.ranges StartedAt: 2025-10-13 22:31:25 -0000 (Mon, 13 Oct 2025) EndedAt: 2025-10-13 22:31:48 -0000 (Mon, 13 Oct 2025) EllapsedTime: 23.0 seconds RetCode: 0 Status: OK PackageFile: alabaster.ranges_1.8.0.tar.gz PackageFileSize: 250.3 KiB