Package: alabaster.ranges Version: 1.8.0 Command: rm -rf alabaster.ranges.buildbin-libdir && mkdir alabaster.ranges.buildbin-libdir && /Users/biocbuild/BBS/utils/build-universal.sh alabaster.ranges_1.8.0.tar.gz /Library/Frameworks/R.framework/Resources/bin/R alabaster.ranges.buildbin-libdir StartedAt: 2025-10-15 17:21:45 -0400 (Wed, 15 Oct 2025) EndedAt: 2025-10-15 17:22:02 -0400 (Wed, 15 Oct 2025) EllapsedTime: 16.8 seconds RetCode: 0 Status: OK PackageFile: alabaster.ranges_1.8.0.tgz PackageFileSize: 317.7 KiB