Package: alabaster.matrix Version: 1.8.0 Command: /Library/Frameworks/R.framework/Resources/bin/R CMD INSTALL alabaster.matrix StartedAt: 2025-10-13 16:05:45 -0400 (Mon, 13 Oct 2025) EndedAt: 2025-10-13 16:06:51 -0400 (Mon, 13 Oct 2025) EllapsedTime: 65.8 seconds RetCode: 0 Status: OK