Package: alabaster.matrix Version: 1.8.0 Command: /home/biocbuild/R/R/bin/R CMD INSTALL alabaster.matrix StartedAt: 2025-10-13 20:51:42 -0000 (Mon, 13 Oct 2025) EndedAt: 2025-10-13 20:52:24 -0000 (Mon, 13 Oct 2025) EllapsedTime: 41.7 seconds RetCode: 0 Status: OK