Package: alabaster.matrix Version: 1.8.0 Command: /home/biocbuild/R/R/bin/R CMD build --keep-empty-dirs --no-resave-data alabaster.matrix StartedAt: 2025-10-13 22:31:18 -0000 (Mon, 13 Oct 2025) EndedAt: 2025-10-13 22:32:11 -0000 (Mon, 13 Oct 2025) EllapsedTime: 53.0 seconds RetCode: 0 Status: OK PackageFile: alabaster.matrix_1.8.0.tar.gz PackageFileSize: 298.6 KiB