Package: alabaster.matrix Version: 1.8.0 Command: /Library/Frameworks/R.framework/Resources/bin/R CMD INSTALL alabaster.matrix StartedAt: 2025-10-13 15:58:57 -0400 (Mon, 13 Oct 2025) EndedAt: 2025-10-13 15:59:30 -0400 (Mon, 13 Oct 2025) EllapsedTime: 32.9 seconds RetCode: 0 Status: OK