Package: alabaster.bumpy Version: 1.8.1 Command: /Library/Frameworks/R.framework/Resources/bin/R CMD INSTALL alabaster.bumpy StartedAt: 2025-10-13 15:44:39 -0400 (Mon, 13 Oct 2025) EndedAt: 2025-10-13 15:45:06 -0400 (Mon, 13 Oct 2025) EllapsedTime: 27.5 seconds RetCode: 0 Status: OK