Package: alabaster.bumpy Version: 1.8.1 Command: rm -rf alabaster.bumpy.buildbin-libdir && mkdir alabaster.bumpy.buildbin-libdir && /Users/biocbuild/BBS/utils/build-universal.sh alabaster.bumpy_1.8.1.tar.gz /Library/Frameworks/R.framework/Resources/bin/R alabaster.bumpy.buildbin-libdir StartedAt: 2025-10-14 12:48:46 -0400 (Tue, 14 Oct 2025) EndedAt: 2025-10-14 12:49:16 -0400 (Tue, 14 Oct 2025) EllapsedTime: 30.5 seconds RetCode: 0 Status: OK PackageFile: alabaster.bumpy_1.8.1.tgz PackageFileSize: 277 KiB