Package: alabaster.bumpy Version: 1.8.1 Command: /home/biocbuild/R/R/bin/R CMD INSTALL alabaster.bumpy StartedAt: 2025-10-13 20:38:14 -0000 (Mon, 13 Oct 2025) EndedAt: 2025-10-13 20:38:32 -0000 (Mon, 13 Oct 2025) EllapsedTime: 17.7 seconds RetCode: 0 Status: OK