Package: alabaster.bumpy Version: 1.8.1 Command: /home/biocbuild/R/R/bin/R CMD build --keep-empty-dirs --no-resave-data alabaster.bumpy StartedAt: 2025-10-13 22:30:45 -0000 (Mon, 13 Oct 2025) EndedAt: 2025-10-13 22:31:11 -0000 (Mon, 13 Oct 2025) EllapsedTime: 26.0 seconds RetCode: 0 Status: OK PackageFile: alabaster.bumpy_1.8.1.tar.gz PackageFileSize: 260.6 KiB