Package: alabaster.bumpy Version: 1.8.1 Command: /Library/Frameworks/R.framework/Resources/bin/R CMD build --keep-empty-dirs --no-resave-data alabaster.bumpy StartedAt: 2025-10-13 18:54:07 -0400 (Mon, 13 Oct 2025) EndedAt: 2025-10-13 18:54:29 -0400 (Mon, 13 Oct 2025) EllapsedTime: 21.9 seconds RetCode: 0 Status: OK PackageFile: alabaster.bumpy_1.8.1.tar.gz PackageFileSize: 235.4 KiB