Package: alabaster.base Version: 1.8.1 Command: /home/biocbuild/bbs-3.21-bioc/R/bin/R CMD INSTALL alabaster.base StartedAt: 2025-10-15 15:13:17 -0400 (Wed, 15 Oct 2025) EndedAt: 2025-10-15 15:14:46 -0400 (Wed, 15 Oct 2025) EllapsedTime: 89.1 seconds RetCode: 0 Status: OK