Package: alabaster.base Version: 1.8.1 Command: rm -rf alabaster.base.buildbin-libdir && mkdir alabaster.base.buildbin-libdir && /Users/biocbuild/BBS/utils/build-universal.sh alabaster.base_1.8.1.tar.gz /Library/Frameworks/R.framework/Resources/bin/R alabaster.base.buildbin-libdir StartedAt: 2025-10-14 12:48:44 -0400 (Tue, 14 Oct 2025) EndedAt: 2025-10-14 12:51:54 -0400 (Tue, 14 Oct 2025) EllapsedTime: 189.8 seconds RetCode: 0 Status: OK PackageFile: alabaster.base_1.8.1.tgz PackageFileSize: 2.486 MiB