Package: alabaster.base Version: 1.8.1 Command: /home/biocbuild/R/R/bin/R CMD INSTALL alabaster.base StartedAt: 2025-10-13 20:25:25 -0000 (Mon, 13 Oct 2025) EndedAt: 2025-10-13 20:27:48 -0000 (Mon, 13 Oct 2025) EllapsedTime: 143.1 seconds RetCode: 0 Status: OK