Package: alabaster.base Version: 1.8.1 Command: /home/biocbuild/R/R/bin/R CMD build --keep-empty-dirs --no-resave-data alabaster.base StartedAt: 2025-10-13 22:30:43 -0000 (Mon, 13 Oct 2025) EndedAt: 2025-10-13 22:33:11 -0000 (Mon, 13 Oct 2025) EllapsedTime: 148.1 seconds RetCode: 0 Status: OK PackageFile: alabaster.base_1.8.1.tar.gz PackageFileSize: 354.9 KiB