Package: alabaster.base Version: 1.8.1 Command: /Library/Frameworks/R.framework/Resources/bin/R CMD INSTALL alabaster.base StartedAt: 2025-10-13 15:55:28 -0400 (Mon, 13 Oct 2025) EndedAt: 2025-10-13 15:56:53 -0400 (Mon, 13 Oct 2025) EllapsedTime: 84.4 seconds RetCode: 0 Status: OK