Package: alabaster.base Version: 1.8.1 Command: /Library/Frameworks/R.framework/Resources/bin/R CMD build --keep-empty-dirs --no-resave-data alabaster.base StartedAt: 2025-10-13 18:53:44 -0400 (Mon, 13 Oct 2025) EndedAt: 2025-10-13 18:55:20 -0400 (Mon, 13 Oct 2025) EllapsedTime: 96.6 seconds RetCode: 0 Status: OK PackageFile: alabaster.base_1.8.1.tar.gz PackageFileSize: 330.1 KiB