Package: agilp Version: 3.40.0 Command: /home/biocbuild/bbs-3.21-bioc/R/bin/R CMD build --keep-empty-dirs --no-resave-data agilp StartedAt: 2025-10-15 16:08:02 -0400 (Wed, 15 Oct 2025) EndedAt: 2025-10-15 16:08:08 -0400 (Wed, 15 Oct 2025) EllapsedTime: 6.0 seconds RetCode: 0 Status: OK PackageFile: agilp_3.40.0.tar.gz PackageFileSize: 453.2 KiB