Package: agilp Version: 3.40.0 Command: /home/biocbuild/R/R/bin/R CMD build --keep-empty-dirs --no-resave-data agilp StartedAt: 2025-10-13 22:30:18 -0000 (Mon, 13 Oct 2025) EndedAt: 2025-10-13 22:30:24 -0000 (Mon, 13 Oct 2025) EllapsedTime: 6.0 seconds RetCode: 0 Status: OK PackageFile: agilp_3.40.0.tar.gz PackageFileSize: 446.1 KiB