Package: aggregateBioVar Version: 1.18.0 Command: /home/biocbuild/R/R/bin/R CMD INSTALL aggregateBioVar StartedAt: 2025-10-13 20:32:31 -0000 (Mon, 13 Oct 2025) EndedAt: 2025-10-13 20:33:04 -0000 (Mon, 13 Oct 2025) EllapsedTime: 33.5 seconds RetCode: 0 Status: OK