Package: aggregateBioVar Version: 1.18.0 Command: /Library/Frameworks/R.framework/Resources/bin/R CMD INSTALL aggregateBioVar StartedAt: 2025-10-13 16:12:22 -0400 (Mon, 13 Oct 2025) EndedAt: 2025-10-13 16:12:49 -0400 (Mon, 13 Oct 2025) EllapsedTime: 27.1 seconds RetCode: 0 Status: OK