Package: aggregateBioVar Version: 1.18.0 Command: rm -rf aggregateBioVar.buildbin-libdir && mkdir aggregateBioVar.buildbin-libdir && /Users/biocbuild/BBS/utils/build-universal.sh aggregateBioVar_1.18.0.tar.gz /Library/Frameworks/R.framework/Resources/bin/R aggregateBioVar.buildbin-libdir StartedAt: 2025-10-15 17:20:16 -0400 (Wed, 15 Oct 2025) EndedAt: 2025-10-15 17:20:47 -0400 (Wed, 15 Oct 2025) EllapsedTime: 31.2 seconds RetCode: 0 Status: OK PackageFile: aggregateBioVar_1.18.0.tgz PackageFileSize: 1.706 MiB