Package: affylmGUI Version: 1.82.0 Command: /home/biocbuild/R/R/bin/R CMD INSTALL affylmGUI StartedAt: 2025-10-13 20:39:19 -0000 (Mon, 13 Oct 2025) EndedAt: 2025-10-13 20:39:46 -0000 (Mon, 13 Oct 2025) EllapsedTime: 27.4 seconds RetCode: 0 Status: OK