Package: affylmGUI Version: 1.82.0 Command: /home/biocbuild/R/R/bin/R CMD build --keep-empty-dirs --no-resave-data affylmGUI StartedAt: 2025-10-13 22:29:48 -0000 (Mon, 13 Oct 2025) EndedAt: 2025-10-13 22:30:21 -0000 (Mon, 13 Oct 2025) EllapsedTime: 33.0 seconds RetCode: 0 Status: OK PackageFile: affylmGUI_1.82.0.tar.gz PackageFileSize: 1.753 MiB