Package: adSplit Version: 1.78.0 Command: /home/biocbuild/R/R/bin/R CMD INSTALL adSplit StartedAt: 2025-10-13 21:02:28 -0000 (Mon, 13 Oct 2025) EndedAt: 2025-10-13 21:02:51 -0000 (Mon, 13 Oct 2025) EllapsedTime: 23.4 seconds RetCode: 0 Status: OK