Package: abseqR Version: 1.26.0 Command: /home/biocbuild/R/R/bin/R CMD INSTALL abseqR StartedAt: 2025-10-13 20:22:22 -0000 (Mon, 13 Oct 2025) EndedAt: 2025-10-13 20:22:51 -0000 (Mon, 13 Oct 2025) EllapsedTime: 29.1 seconds RetCode: 0 Status: OK