Package: abseqR Version: 1.26.0 Command: rm -rf abseqR.buildbin-libdir && mkdir abseqR.buildbin-libdir && /Users/biocbuild/BBS/utils/build-universal.sh abseqR_1.26.0.tar.gz /Library/Frameworks/R.framework/Resources/bin/R abseqR.buildbin-libdir StartedAt: 2025-10-15 17:18:49 -0400 (Wed, 15 Oct 2025) EndedAt: 2025-10-15 17:19:07 -0400 (Wed, 15 Oct 2025) EllapsedTime: 18.1 seconds RetCode: 0 Status: OK PackageFile: abseqR_1.26.0.tgz PackageFileSize: 2.913 MiB