Package: a4Preproc Version: 1.56.0 Command: /home/biocbuild/bbs-3.21-bioc/R/bin/R CMD INSTALL a4Preproc StartedAt: 2025-10-15 15:11:25 -0400 (Wed, 15 Oct 2025) EndedAt: 2025-10-15 15:11:28 -0400 (Wed, 15 Oct 2025) EllapsedTime: 2.3 seconds RetCode: 0 Status: OK