Package: a4Preproc Version: 1.56.0 Command: /Library/Frameworks/R.framework/Resources/bin/R CMD build --keep-empty-dirs --no-resave-data a4Preproc StartedAt: 2025-10-13 18:45:20 -0400 (Mon, 13 Oct 2025) EndedAt: 2025-10-13 18:45:34 -0400 (Mon, 13 Oct 2025) EllapsedTime: 13.7 seconds RetCode: 0 Status: OK PackageFile: a4Preproc_1.56.0.tar.gz PackageFileSize: 288.6 KiB