Package: a4Core Version: 1.56.0 Command: /home/biocbuild/R/R/bin/R CMD INSTALL a4Core StartedAt: 2025-10-13 20:24:52 -0000 (Mon, 13 Oct 2025) EndedAt: 2025-10-13 20:25:04 -0000 (Mon, 13 Oct 2025) EllapsedTime: 12.6 seconds RetCode: 0 Status: OK