Package: a4Core Version: 1.56.0 Command: /home/biocbuild/R/R/bin/R CMD build --keep-empty-dirs --no-resave-data a4Core StartedAt: 2025-10-13 22:28:57 -0000 (Mon, 13 Oct 2025) EndedAt: 2025-10-13 22:29:10 -0000 (Mon, 13 Oct 2025) EllapsedTime: 13.0 seconds RetCode: 0 Status: OK PackageFile: a4Core_1.56.0.tar.gz PackageFileSize: 355.2 KiB