Package: a4Classif Version: 1.56.0 Command: /home/biocbuild/bbs-3.21-bioc/R/bin/R CMD INSTALL a4Classif StartedAt: 2025-10-15 15:12:40 -0400 (Wed, 15 Oct 2025) EndedAt: 2025-10-15 15:12:46 -0400 (Wed, 15 Oct 2025) EllapsedTime: 5.8 seconds RetCode: 0 Status: OK