Package: a4Base Version: 1.56.0 Command: /home/biocbuild/bbs-3.21-bioc/R/bin/R CMD INSTALL a4Base StartedAt: 2025-10-15 15:48:17 -0400 (Wed, 15 Oct 2025) EndedAt: 2025-10-15 15:48:38 -0400 (Wed, 15 Oct 2025) EllapsedTime: 20.8 seconds RetCode: 0 Status: OK